BEGIN:VCALENDAR
VERSION:2.0
PRODID:-//Strasburg Township - ECPv6.15.10//NONSGML v1.0//EN
CALSCALE:GREGORIAN
METHOD:PUBLISH
X-ORIGINAL-URL:https://www.strasburgtownship.com
X-WR-CALDESC:Events for Strasburg Township
REFRESH-INTERVAL;VALUE=DURATION:PT1H
X-Robots-Tag:noindex
X-PUBLISHED-TTL:PT1H
BEGIN:VTIMEZONE
TZID:America/New_York
BEGIN:DAYLIGHT
TZOFFSETFROM:-0500
TZOFFSETTO:-0400
TZNAME:EDT
DTSTART:20200308T070000
END:DAYLIGHT
BEGIN:STANDARD
TZOFFSETFROM:-0400
TZOFFSETTO:-0500
TZNAME:EST
DTSTART:20201101T060000
END:STANDARD
BEGIN:DAYLIGHT
TZOFFSETFROM:-0500
TZOFFSETTO:-0400
TZNAME:EDT
DTSTART:20210314T070000
END:DAYLIGHT
BEGIN:STANDARD
TZOFFSETFROM:-0400
TZOFFSETTO:-0500
TZNAME:EST
DTSTART:20211107T060000
END:STANDARD
BEGIN:DAYLIGHT
TZOFFSETFROM:-0500
TZOFFSETTO:-0400
TZNAME:EDT
DTSTART:20220313T070000
END:DAYLIGHT
BEGIN:STANDARD
TZOFFSETFROM:-0400
TZOFFSETTO:-0500
TZNAME:EST
DTSTART:20221106T060000
END:STANDARD
BEGIN:DAYLIGHT
TZOFFSETFROM:-0500
TZOFFSETTO:-0400
TZNAME:EDT
DTSTART:20230312T070000
END:DAYLIGHT
BEGIN:STANDARD
TZOFFSETFROM:-0400
TZOFFSETTO:-0500
TZNAME:EST
DTSTART:20231105T060000
END:STANDARD
END:VTIMEZONE
BEGIN:VEVENT
DTSTART;TZID=America/New_York:20220606T193000
DTEND;TZID=America/New_York:20220606T210000
DTSTAMP:20260423T055420
CREATED:20220118T020450Z
LAST-MODIFIED:20220118T194408Z
UID:1625-1654543800-1654549200@www.strasburgtownship.com
SUMMARY:Board of Supervisors
DESCRIPTION:
URL:https://www.strasburgtownship.com/event/board-of-supervisors-6/
LOCATION:Municipal Building\, 400 Bunker Hill Road\, Strasburg\, 17579\, United States
CATEGORIES:Board of Supervisors
END:VEVENT
BEGIN:VEVENT
DTSTART;TZID=America/New_York:20220516T130000
DTEND;TZID=America/New_York:20220516T143000
DTSTAMP:20260423T055420
CREATED:20220118T021258Z
LAST-MODIFIED:20220118T194241Z
UID:1633-1652706000-1652711400@www.strasburgtownship.com
SUMMARY:Board of Supervisors\, as needed
DESCRIPTION:
URL:https://www.strasburgtownship.com/event/board-of-supervisors-as-needed-5/
LOCATION:Municipal Building\, 400 Bunker Hill Road\, Strasburg\, 17579\, United States
CATEGORIES:Board of Supervisors
END:VEVENT
BEGIN:VEVENT
DTSTART;TZID=America/New_York:20220502T193000
DTEND;TZID=America/New_York:20220502T210000
DTSTAMP:20260423T055420
CREATED:20220118T020258Z
LAST-MODIFIED:20220118T193724Z
UID:1623-1651519800-1651525200@www.strasburgtownship.com
SUMMARY:Board of Supervisors
DESCRIPTION:
URL:https://www.strasburgtownship.com/event/board-of-supervisors-5/
LOCATION:Municipal Building\, 400 Bunker Hill Road\, Strasburg\, 17579\, United States
CATEGORIES:Board of Supervisors
END:VEVENT
BEGIN:VEVENT
DTSTART;TZID=America/New_York:20220418T130000
DTEND;TZID=America/New_York:20220418T143000
DTSTAMP:20260423T055420
CREATED:20220118T021201Z
LAST-MODIFIED:20220118T193625Z
UID:1631-1650286800-1650292200@www.strasburgtownship.com
SUMMARY:Board of Supervisors\, as needed
DESCRIPTION:
URL:https://www.strasburgtownship.com/event/board-of-supervisors-as-needed-4/
LOCATION:Municipal Building\, 400 Bunker Hill Road\, Strasburg\, 17579\, United States
CATEGORIES:Board of Supervisors
END:VEVENT
BEGIN:VEVENT
DTSTART;TZID=America/New_York:20220404T193000
DTEND;TZID=America/New_York:20220404T210000
DTSTAMP:20260423T055420
CREATED:20220118T020108Z
LAST-MODIFIED:20220118T193313Z
UID:1621-1649100600-1649106000@www.strasburgtownship.com
SUMMARY:Board of Supervisors
DESCRIPTION:
URL:https://www.strasburgtownship.com/event/board-of-supervisors-4/
LOCATION:Municipal Building\, 400 Bunker Hill Road\, Strasburg\, 17579\, United States
CATEGORIES:Board of Supervisors
END:VEVENT
BEGIN:VEVENT
DTSTART;TZID=America/New_York:20220321T130000
DTEND;TZID=America/New_York:20220321T143000
DTSTAMP:20260423T055420
CREATED:20220118T021113Z
LAST-MODIFIED:20220118T193200Z
UID:1629-1647867600-1647873000@www.strasburgtownship.com
SUMMARY:Board of Supervisors\, as needed
DESCRIPTION:
URL:https://www.strasburgtownship.com/event/board-of-supervisors-as-needed-3/
LOCATION:Municipal Building\, 400 Bunker Hill Road\, Strasburg\, 17579\, United States
CATEGORIES:Board of Supervisors
END:VEVENT
BEGIN:VEVENT
DTSTART;TZID=America/New_York:20220307T193000
DTEND;TZID=America/New_York:20220307T210000
DTSTAMP:20260423T055420
CREATED:20220117T203059Z
LAST-MODIFIED:20220118T193002Z
UID:1619-1646681400-1646686800@www.strasburgtownship.com
SUMMARY:Board of Supervisors
DESCRIPTION:
URL:https://www.strasburgtownship.com/event/board-of-supervisors-3/
LOCATION:Municipal Building\, 400 Bunker Hill Road\, Strasburg\, 17579\, United States
CATEGORIES:Board of Supervisors
END:VEVENT
BEGIN:VEVENT
DTSTART;TZID=America/New_York:20220221T130000
DTEND;TZID=America/New_York:20220221T143000
DTSTAMP:20260423T055420
CREATED:20220118T021015Z
LAST-MODIFIED:20220118T192834Z
UID:1627-1645448400-1645453800@www.strasburgtownship.com
SUMMARY:Board of Supervisors\, as needed
DESCRIPTION:
URL:https://www.strasburgtownship.com/event/board-of-supervisors-as-needed-2/
LOCATION:Municipal Building\, 400 Bunker Hill Road\, Strasburg\, 17579\, United States
CATEGORIES:Board of Supervisors
END:VEVENT
BEGIN:VEVENT
DTSTART;TZID=America/New_York:20220207T193000
DTEND;TZID=America/New_York:20220207T210000
DTSTAMP:20260423T055420
CREATED:20220117T202716Z
LAST-MODIFIED:20220118T182628Z
UID:1613-1644262200-1644267600@www.strasburgtownship.com
SUMMARY:Board of Supervisors
DESCRIPTION:
URL:https://www.strasburgtownship.com/event/board-of-supervisors-2/
LOCATION:Municipal Building\, 400 Bunker Hill Road\, Strasburg\, 17579\, United States
CATEGORIES:Board of Supervisors
END:VEVENT
BEGIN:VEVENT
DTSTART;TZID=America/New_York:20211018T090000
DTEND;TZID=America/New_York:20211018T103000
DTSTAMP:20260423T055420
CREATED:20211014T215608Z
LAST-MODIFIED:20211014T215608Z
UID:640-1634547600-1634553000@www.strasburgtownship.com
SUMMARY:Board of Supervisors\, as needed
DESCRIPTION:
URL:https://www.strasburgtownship.com/event/board-of-supervisors-as-needed/
LOCATION:Municipal Building\, 400 Bunker Hill Road\, Strasburg\, 17579\, United States
CATEGORIES:Board of Supervisors
END:VEVENT
END:VCALENDAR