BEGIN:VCALENDAR
VERSION:2.0
PRODID:-//Strasburg Township - ECPv6.15.10//NONSGML v1.0//EN
CALSCALE:GREGORIAN
METHOD:PUBLISH
X-WR-CALNAME:Strasburg Township
X-ORIGINAL-URL:https://www.strasburgtownship.com
X-WR-CALDESC:Events for Strasburg Township
REFRESH-INTERVAL;VALUE=DURATION:PT1H
X-Robots-Tag:noindex
X-PUBLISHED-TTL:PT1H
BEGIN:VTIMEZONE
TZID:America/New_York
BEGIN:DAYLIGHT
TZOFFSETFROM:-0500
TZOFFSETTO:-0400
TZNAME:EDT
DTSTART:20210314T070000
END:DAYLIGHT
BEGIN:STANDARD
TZOFFSETFROM:-0400
TZOFFSETTO:-0500
TZNAME:EST
DTSTART:20211107T060000
END:STANDARD
BEGIN:DAYLIGHT
TZOFFSETFROM:-0500
TZOFFSETTO:-0400
TZNAME:EDT
DTSTART:20220313T070000
END:DAYLIGHT
BEGIN:STANDARD
TZOFFSETFROM:-0400
TZOFFSETTO:-0500
TZNAME:EST
DTSTART:20221106T060000
END:STANDARD
BEGIN:DAYLIGHT
TZOFFSETFROM:-0500
TZOFFSETTO:-0400
TZNAME:EDT
DTSTART:20230312T070000
END:DAYLIGHT
BEGIN:STANDARD
TZOFFSETFROM:-0400
TZOFFSETTO:-0500
TZNAME:EST
DTSTART:20231105T060000
END:STANDARD
END:VTIMEZONE
BEGIN:VEVENT
DTSTART;TZID=America/New_York:20220711T190000
DTEND;TZID=America/New_York:20220711T210000
DTSTAMP:20260423T001352
CREATED:20220118T180328Z
LAST-MODIFIED:20220118T180328Z
UID:1670-1657566000-1657573200@www.strasburgtownship.com
SUMMARY:Planning Commission
DESCRIPTION:
URL:https://www.strasburgtownship.com/event/planning-commission-6/
LOCATION:Municipal Building\, 400 Bunker Hill Road\, Strasburg\, 17579\, United States
CATEGORIES:Planning Commission
END:VEVENT
BEGIN:VEVENT
DTSTART;TZID=America/New_York:20220613T190000
DTEND;TZID=America/New_York:20220613T210000
DTSTAMP:20260423T001352
CREATED:20220118T180238Z
LAST-MODIFIED:20220118T180238Z
UID:1668-1655146800-1655154000@www.strasburgtownship.com
SUMMARY:Planning Commission
DESCRIPTION:
URL:https://www.strasburgtownship.com/event/planning-commission-5/
LOCATION:Municipal Building\, 400 Bunker Hill Road\, Strasburg\, 17579\, United States
CATEGORIES:Planning Commission
END:VEVENT
BEGIN:VEVENT
DTSTART;TZID=America/New_York:20220509T190000
DTEND;TZID=America/New_York:20220509T210000
DTSTAMP:20260423T001352
CREATED:20220118T180135Z
LAST-MODIFIED:20220118T180135Z
UID:1666-1652122800-1652130000@www.strasburgtownship.com
SUMMARY:Planning Commission
DESCRIPTION:
URL:https://www.strasburgtownship.com/event/planning-commission-4/
LOCATION:Municipal Building\, 400 Bunker Hill Road\, Strasburg\, 17579\, United States
CATEGORIES:Planning Commission
END:VEVENT
BEGIN:VEVENT
DTSTART;TZID=America/New_York:20220411T190000
DTEND;TZID=America/New_York:20220411T210000
DTSTAMP:20260423T001352
CREATED:20220118T180038Z
LAST-MODIFIED:20220118T180038Z
UID:1664-1649703600-1649710800@www.strasburgtownship.com
SUMMARY:Planning Commission
DESCRIPTION:
URL:https://www.strasburgtownship.com/event/planning-commission-3/
LOCATION:Municipal Building\, 400 Bunker Hill Road\, Strasburg\, 17579\, United States
CATEGORIES:Planning Commission
END:VEVENT
BEGIN:VEVENT
DTSTART;TZID=America/New_York:20220314T190000
DTEND;TZID=America/New_York:20220314T210000
DTSTAMP:20260423T001352
CREATED:20220118T180933Z
LAST-MODIFIED:20220118T180933Z
UID:1682-1647284400-1647291600@www.strasburgtownship.com
SUMMARY:Planning Commission
DESCRIPTION:
URL:https://www.strasburgtownship.com/event/planning-commission-12/
LOCATION:Municipal Building\, 400 Bunker Hill Road\, Strasburg\, 17579\, United States
CATEGORIES:Planning Commission
END:VEVENT
BEGIN:VEVENT
DTSTART;TZID=America/New_York:20220214T190000
DTEND;TZID=America/New_York:20220214T210000
DTSTAMP:20260423T001352
CREATED:20220117T202850Z
LAST-MODIFIED:20220118T192716Z
UID:1615-1644865200-1644872400@www.strasburgtownship.com
SUMMARY:Planning Commission
DESCRIPTION:
URL:https://www.strasburgtownship.com/event/planning-commission-2/
LOCATION:Municipal Building\, 400 Bunker Hill Road\, Strasburg\, 17579\, United States
CATEGORIES:Planning Commission
END:VEVENT
END:VCALENDAR