BEGIN:VCALENDAR
VERSION:2.0
PRODID:-//Strasburg Township - ECPv6.15.10//NONSGML v1.0//EN
CALSCALE:GREGORIAN
METHOD:PUBLISH
X-WR-CALNAME:Strasburg Township
X-ORIGINAL-URL:https://www.strasburgtownship.com
X-WR-CALDESC:Events for Strasburg Township
REFRESH-INTERVAL;VALUE=DURATION:PT1H
X-Robots-Tag:noindex
X-PUBLISHED-TTL:PT1H
BEGIN:VTIMEZONE
TZID:America/New_York
BEGIN:DAYLIGHT
TZOFFSETFROM:-0500
TZOFFSETTO:-0400
TZNAME:EDT
DTSTART:20210314T070000
END:DAYLIGHT
BEGIN:STANDARD
TZOFFSETFROM:-0400
TZOFFSETTO:-0500
TZNAME:EST
DTSTART:20211107T060000
END:STANDARD
BEGIN:DAYLIGHT
TZOFFSETFROM:-0500
TZOFFSETTO:-0400
TZNAME:EDT
DTSTART:20220313T070000
END:DAYLIGHT
BEGIN:STANDARD
TZOFFSETFROM:-0400
TZOFFSETTO:-0500
TZNAME:EST
DTSTART:20221106T060000
END:STANDARD
BEGIN:DAYLIGHT
TZOFFSETFROM:-0500
TZOFFSETTO:-0400
TZNAME:EDT
DTSTART:20230312T070000
END:DAYLIGHT
BEGIN:STANDARD
TZOFFSETFROM:-0400
TZOFFSETTO:-0500
TZNAME:EST
DTSTART:20231105T060000
END:STANDARD
END:VTIMEZONE
BEGIN:VEVENT
DTSTART;TZID=America/New_York:20220712T190000
DTEND;TZID=America/New_York:20220712T210000
DTSTAMP:20260423T004447
CREATED:20220118T181345Z
LAST-MODIFIED:20220118T181345Z
UID:1692-1657652400-1657659600@www.strasburgtownship.com
SUMMARY:Zoning Hearing Board\, as needed
DESCRIPTION:
URL:https://www.strasburgtownship.com/event/zoning-hearing-board-as-needed-6/
LOCATION:Municipal Building\, 400 Bunker Hill Road\, Strasburg\, 17579\, United States
CATEGORIES:Zoning Hearing Board
END:VEVENT
BEGIN:VEVENT
DTSTART;TZID=America/New_York:20220614T190000
DTEND;TZID=America/New_York:20220614T210000
DTSTAMP:20260423T004447
CREATED:20220118T181252Z
LAST-MODIFIED:20220118T181252Z
UID:1690-1655233200-1655240400@www.strasburgtownship.com
SUMMARY:Zoning Hearing Board\, as needed
DESCRIPTION:
URL:https://www.strasburgtownship.com/event/zoning-hearing-board-as-needed-5/
LOCATION:Municipal Building\, 400 Bunker Hill Road\, Strasburg\, 17579\, United States
CATEGORIES:Zoning Hearing Board
END:VEVENT
BEGIN:VEVENT
DTSTART;TZID=America/New_York:20220510T190000
DTEND;TZID=America/New_York:20220510T210000
DTSTAMP:20260423T004447
CREATED:20220118T181209Z
LAST-MODIFIED:20220118T194129Z
UID:1688-1652209200-1652216400@www.strasburgtownship.com
SUMMARY:Zoning Hearing Board\, as needed
DESCRIPTION:
URL:https://www.strasburgtownship.com/event/zoning-hearing-board-as-needed-4/
LOCATION:Municipal Building\, 400 Bunker Hill Road\, Strasburg\, 17579\, United States
CATEGORIES:Zoning Hearing Board
END:VEVENT
BEGIN:VEVENT
DTSTART;TZID=America/New_York:20220412T190000
DTEND;TZID=America/New_York:20220412T210000
DTSTAMP:20260423T004447
CREATED:20220118T181132Z
LAST-MODIFIED:20220118T181132Z
UID:1686-1649790000-1649797200@www.strasburgtownship.com
SUMMARY:Zoning Hearing Board\, as needed
DESCRIPTION:
URL:https://www.strasburgtownship.com/event/zoning-hearing-board-as-needed-3/
LOCATION:Municipal Building\, 400 Bunker Hill Road\, Strasburg\, 17579\, United States
CATEGORIES:Zoning Hearing Board
END:VEVENT
BEGIN:VEVENT
DTSTART;TZID=America/New_York:20220308T190000
DTEND;TZID=America/New_York:20220308T210000
DTSTAMP:20260423T004447
CREATED:20220118T181042Z
LAST-MODIFIED:20220118T181042Z
UID:1684-1646766000-1646773200@www.strasburgtownship.com
SUMMARY:Zoning Hearing Board\, as needed
DESCRIPTION:
URL:https://www.strasburgtownship.com/event/zoning-hearing-board-as-needed-2/
LOCATION:Municipal Building\, 400 Bunker Hill Road\, Strasburg\, 17579\, United States
CATEGORIES:Zoning Hearing Board
END:VEVENT
END:VCALENDAR